BEGIN:VCALENDAR
VERSION:2.0
PRODID:-//AudioTheme 2.3.2
BEGIN:VEVENT
UID:urn:uuid:b32d6aae-aec5-4308-97b2-986738cc0bce
URL:https://www.geraldcohenmusic.com/events/zamir-chorale-performs-pitchu-li/
DTSTART;TZID=GMT:20211213T003000
SUMMARY:Zamir Chorale performs "Pitchu Li"
DESCRIPTION:The Zamir Chorale and Zamir Noded\, both under the direction of maestro Matthew Lazar\, will perform individually and together. The program will feature works honoring the milestone birthdays of composers Louis Lewandowski and Yehezkel Braun\, with shorter works by David Burger\, Gerald Cohen and more.
LOCATION:Merkin Concert Hall\, 129 West 67th Street\, New York\, NY\, United States\, 10036
END:VEVENT
END:VCALENDAR
