BEGIN:VCALENDAR
VERSION:2.0
PRODID:-//AudioTheme 2.3.2
BEGIN:VEVENT
UID:urn:uuid:56a41772-f583-4b23-abfe-581fd6a6fd5b
URL:https://www.geraldcohenmusic.com/events/world-premiere-of-songs-born-in-bergen-belsen/
DTSTART;TZID=GMT:20231025T230000
SUMMARY:World premiere: "they burn, the fires of the night"
DESCRIPTION:For mezzo-soprano\, baritone and chamber ensemble\, commissioned by the Defiant Requiem Foundation
LOCATION:Hebrew Union College\, 1 West 4th Street\, New York\, NY\, United States\, 10012
END:VEVENT
END:VCALENDAR
