BEGIN:VCALENDAR
VERSION:2.0
PRODID:-//AudioTheme 2.3.2
BEGIN:VEVENT
UID:urn:uuid:5685b21c-34e0-492a-b90f-e03b04f7b4f4
URL:https://www.geraldcohenmusic.com/events/premiere-of-lcha-dodi-at-kam-isaiah-israel-chicago/
DTSTART;TZID=GMT:20200418T000000
SUMMARY:L'cha Dodi (World premiere)
DESCRIPTION:Premiere of a new setting of "L'cha Dodi" commissioned by Cantor David Berger and KAM Isaiah Israel Congregation.  
LOCATION:KAM Isaiah Israel Congregation\, 1100 East Hyde Park Boulevard\, Chicago\, IL\, United States\, 60615
END:VEVENT
END:VCALENDAR
