BEGIN:VCALENDAR
VERSION:2.0
PRODID:-//AudioTheme 2.3.2
BEGIN:VEVENT
UID:urn:uuid:99342c65-e7f1-4a7c-9d3d-8cdec4ef2eb6
URL:https://www.geraldcohenmusic.com/events/composer-portrait-concert-at-jts/
DTSTART;TZID=GMT:20220510T233000
SUMMARY:Composer Portrait Concert at JTS
DESCRIPTION:Reaching for the Heavens\, a concert featuring the vibrant and compelling music of Gerald Cohen\, a leading composer of concert and Jewish music.
LOCATION:Jewish Theological Seminary of America\, 3080 Broadway\, New York\, NY\, United States\, 10027
END:VEVENT
END:VCALENDAR
