BEGIN:VCALENDAR
VERSION:2.0
PRODID:-//AudioTheme 2.3.2
BEGIN:VEVENT
UID:urn:uuid:6a4b5519-3b94-479d-b152-8efb68b7cf79
URL:https://www.geraldcohenmusic.com/events/aspen-choral-society-new-choral-movements-for-messiah/
DTSTART;TZID=GMT:20211212T020000
SUMMARY:Premiere: Choral Movements for “Messiah”
DESCRIPTION:The Aspen Choral Society performs the world premiere of two choral pieces by Gerald Cohen\, commissioned to be incorporated into Handel’s Messiah.
LOCATION:Grace Church\, 1776 Emma Rd\, Basalt\, CO\, United States\, 81621
END:VEVENT
END:VCALENDAR
