BEGIN:VCALENDAR
VERSION:2.0
PRODID:-//AudioTheme 2.3.2
BEGIN:VEVENT
UID:urn:uuid:a15faa7c-b744-47ba-bb7f-d67f0802a09c
URL:https://www.geraldcohenmusic.com/events/aspen-choral-society-new-choral-movements-for-messiah-2/
DTSTART;TZID=GMT:20211213T020000
SUMMARY:Premiere: Choral Movements for “Messiah”
DESCRIPTION:The Aspen Choral Society performs the world premiere of two choral pieces by Gerald Cohen\, commissioned to be incorporated into Handel’s Messiah.
LOCATION:First United Methodist Church\, 824 Cooper Avenue\, Glenwood Springs\, CO\, United States\, 81602
END:VEVENT
END:VCALENDAR
