BEGIN:VCALENDAR
VERSION:2.0
PRODID:-//AudioTheme 2.3.2
BEGIN:VEVENT
UID:urn:uuid:b5328b05-8c7e-43e8-98dc-f734d3ba1a8c
URL:https://www.geraldcohenmusic.com/events/aspen-choral-society-commissions-new-choral-movements-for-its-45th-annual-presentation-of-messiah/
DTSTART;TZID=GMT:20211211T020000
SUMMARY:Premiere: Choral Movements for "Messiah"
DESCRIPTION:The Aspen Choral Society performs the world premiere of two choral pieces by Gerald Cohen\, commissioned to be incorporated into Handel’s Messiah.
LOCATION:Wheeler Opera House\, 320 East Hyman Avenue\, Aspen\, CO\, United States\, 81611
END:VEVENT
END:VCALENDAR
